BEGIN:VCALENDAR
VERSION:2.0
PRODID:-//FIVOSZ - ECPv6.15.14//NONSGML v1.0//EN
CALSCALE:GREGORIAN
METHOD:PUBLISH
X-ORIGINAL-URL:https://fivosz.hu
X-WR-CALDESC:Események FIVOSZ
REFRESH-INTERVAL;VALUE=DURATION:PT1H
X-Robots-Tag:noindex
X-PUBLISHED-TTL:PT1H
BEGIN:VTIMEZONE
TZID:UTC
BEGIN:STANDARD
TZOFFSETFROM:+0000
TZOFFSETTO:+0000
TZNAME:UTC
DTSTART:20220101T000000
END:STANDARD
END:VTIMEZONE
BEGIN:VEVENT
DTSTART;TZID=UTC:20240425T160000
DTEND;TZID=UTC:20240425T210000
DTSTAMP:20260420T055238
CREATED:20240417T082757Z
LAST-MODIFIED:20240417T142714Z
UID:6268-1714060800-1714078800@fivosz.hu
SUMMARY:Baranya Business Summit
DESCRIPTION:Elérkeztünk újabb Baranya vármegyei rendezvényünk időpontjához\, mely alkalmából helyi vezetőségünk ismét izgalmas és aktuális témákkal várja a vállalkozó\, vagy még épp csak vállalkozni vágyó fiatalokat. \nAz esemény fővédnöke Dr. Őri László\, a Baranya Vármegyei Önkormányzat elnöke \nVendégeinket 16 órától várjuk sok szeretettel. \nA program:\n16.35 – Köszöntő – Mrázik Csaba\, Baranya vármegyei elnök\, FIVOSZ \n16.40-17.00 – Pécs és Baranya vármegye jövője – Dr. Csizmadia Péter \n17.15-17.45 – Cégmenedzsment – Cégek felkészítése a sikeres működéshez\, hogyan pályázzunk 2024-ben? – Dr. Alkonyi Csaba \n18.00-18.40 – Gazdasági kilátások Baranya vármegyén innen és túl – Kiss Mónika\, vezető stratégiai tanácsadó\, Prestige Zrt. \n18.50-19.30 – Nők az üzleti világban – Női kerekasztal-beszélgetés \n                       Pohl Marietta\, ügyvezető\, Baranya Megyei Vállalkozó Központ \n                       Mrázik-Ördög Klaudetta\, ügyvezető\, Vesta Home Ingatlan \n                       Schweitzerné Hornicz Bernadett\, ügyvezető\, KARMA Pécsi Kesztyű \nModerátor: Vörös Imre\, Baranya vármegyei alelnök\, FIVOSZ \n19.30-21.00 Networking \nA rendezvény ingyenes\, de regisztrációhoz kötött! \n\nJól hangzik\, regisztrálok! \n\nTarts velünk Te is!  \nA programváltozás és a beléptetés jogát egyaránt fenntartjuk.
URL:https://fivosz.hu/esemeny/baranya-business-summit/
LOCATION:Baranya Megyei Önkormányzat Közgyűlésének Díszterme\, Papnövelde utca 5.\, Pécs\, Baranya\, 7621\, Magyarország
CATEGORIES:Események,Pécs
ATTACH;FMTTYPE=image/jpeg:https://fivosz.hu/wp-content/uploads/2024/04/Fivosz-20240416-scaled.jpg
END:VEVENT
BEGIN:VEVENT
DTSTART;TZID=UTC:20230907T180000
DTEND;TZID=UTC:20230907T220000
DTSTAMP:20260420T055238
CREATED:20230823T083652Z
LAST-MODIFIED:20231019T061302Z
UID:5654-1694109600-1694124000@fivosz.hu
SUMMARY:FIVOSZ Garden Party
DESCRIPTION:[vc_row][vc_column][vc_column_text]Időpont: 2023.09.07. 18.00\nHelyszín: Continental Citygolf Club\, 1037 Budapest\, Perényi út 6.\nDressCode: Business Casual \nProgram:\n18:00-Welcome on the Garden Party:\nkezedben egy finom itallal már indul is a networking \n18:30-18:45 FIVOSZ Welcome:\nDr. Kovács Patrik alapító elnök elárulja milyen újdonságokkal várunk a következő hónapokban \n18:45-19:15 Summer minutes:\nItt kiderül\, hogy miért lesz különleges a mai estéd\nBrandépítés szíve – lelke\nKaszás Attila – VIWA vitaminvíz\, tulajdonos \n19:15-20:30 Meglepetés popup\, ahol azonnal fejlődsz (az asztalok között átjárást biztosítunk\, így mindegyikbe belehallgathatsz) \nÜzlet\, fejlődés\, közösség – 3 meglepetés popup asztal\, ahol kötetlenül 3 különböző üzleti témát járunk körbe \nGasztro-\, turisztikai és kapcsolatépítés pop-up:\nHa gasztro üzleted van\, vagy most indítanál gasztro vállalkozást itt a helyed\, ismerd meg a FIVOSZ vendéglátós cégeit\, keress potenciális beszállítót\, fejlődj velünk! \nFinanszírozás és kapcsolatépítés pop-up:\nBővítés miatt céges hitel felvételén gondolkozol\, esetleg jelenlegi hitelkeretednél szeretnél jobb konstrukciót? Milyen pályázatok várhatók? Vannak még üzleti angyalok?\nSegítünk\, hogy reálisan lásd milyen rövidtávú lehetőségeid vannak! \nIngatlanos kilátások és kapcsolatépítés pop-up:\nMi az ingatlanpiac jövője? Bérlés\, vásárlás\, eladás? Mi a jó döntés most? Jó befektetés-e az ingatlan a jelen piacon? Venni\, eladni vagy kivárni? \n20:30 – 22:00 Finom hölgyek\, elegáns urak ismerkedése\nkötetlen beszélgetés és kapcsolatépítés egy finom koktél\, frissítő mellett\, azokkal a FIVOSZ tagokkal\, akiket személyesen megismertél \nJegyed ára tartalmaz egy welcome drinket\, korlátlan alkoholmentes italfogyasztást a rendezvény ideje alatt és finger foodot\, valamint a szekció beszélgetéseken való részvételt és a kapcsolatépítés lehetőségét. \nFIVOSZ tagként a részvételi díj 15.000 Ft + Áfa\, Külsős vendégként 24.000 Ft + ÁFA. \nA rendezvény ideje alatt lehetőséged van kedvezményes golfoktatás igénybevételére is. Ugye Te is velünk tartasz?[/vc_column_text][/vc_column][/vc_row][vc_row][vc_column][vc_column_text]A programváltozás és a programváltoztatás jogát fenntartjuk. \nA facebook esemény linkje:\nFIVOSZ Garden Party – Üzlet könnyedén – ✨️ Limitált helyek✨️ | Facebook[/vc_column_text][/vc_column][/vc_row]
URL:https://fivosz.hu/esemeny/fivosz-garden-party-2/
LOCATION:Continental Citygolf Club\, 1037 Budapest\, Perényi út 6.\, Perényi út 6.\, Budapest\, Budapest\, 1037\, Magyarország
CATEGORIES:Budapest,Kiemelt esemény
ATTACH;FMTTYPE=image/webp:https://fivosz.hu/wp-content/uploads/2023/08/FIVOSZ_ECVR_0907_V.webp
END:VEVENT
END:VCALENDAR