BEGIN:VCALENDAR
VERSION:2.0
PRODID:-//FIVOSZ - ECPv6.15.14//NONSGML v1.0//EN
CALSCALE:GREGORIAN
METHOD:PUBLISH
X-WR-CALNAME:FIVOSZ
X-ORIGINAL-URL:https://fivosz.hu
X-WR-CALDESC:Események FIVOSZ
REFRESH-INTERVAL;VALUE=DURATION:PT1H
X-Robots-Tag:noindex
X-PUBLISHED-TTL:PT1H
BEGIN:VTIMEZONE
TZID:UTC
BEGIN:STANDARD
TZOFFSETFROM:+0000
TZOFFSETTO:+0000
TZNAME:UTC
DTSTART:20250101T000000
END:STANDARD
END:VTIMEZONE
BEGIN:VEVENT
DTSTART;TZID=UTC:20260421T093000
DTEND;TZID=UTC:20260426T183000
DTSTAMP:20260421T025724
CREATED:20260327T154305Z
LAST-MODIFIED:20260327T160515Z
UID:8410-1776763800-1777228200@fivosz.hu
SUMMARY:Gyere velünk Milánóba! - Salone del Mobile 2026
DESCRIPTION:[vc_row][vc_column][vc_column_text] \n\n\n\nAz Építőipari és Ingatlan Bizottság vezetősége nevében szeretettel invitálunk \,hogy vegyél részt velünk a 2026.04.21-26 között megrendezésre kerülő milánói Salone del Mobile kiállításon! \nCsatlakozz hozzánk\, merülj el te is a design és innováció világában\, majd koccintsunk együtt egy pohár proseccoval a nyüzsgő város szívében. \nInspiráció\, kapcsolatépítés és felejthetetlen élmények várnak ránk Milánóban. \nA kiállítás helyszíne: Fiera Milano\, Rho \nA koccintás helyszíne: BASE Milano\, Via Bergognone – 20144\, Milano \nidőpont: 2026.04.23. 19.00-tól \nHa szívesen velünk tartanál\, kérjük\, jelezd részvételi szándékodat bizottsági alelnökünknek\, Gyutai Szilviának az alábbi e-mail címen: szgyutai@fivosz.hu \n\n\n\n  \nA részvétel 100%-ban önköltségi alapú.[/vc_column_text][/vc_column][/vc_row][vc_row][vc_column][vc_btn title=”Jegyvásárlás és a kiállítás részletei itt érhetők el” color=”danger” size=”lg” align=”center” i_icon_fontawesome=”far fa-hand-point-right” add_icon=”true” link=”url:https%3A%2F%2Fwww.salonemilano.it%2Fen”][/vc_column][/vc_row]
URL:https://fivosz.hu/esemeny/salone_del_mobile/
LOCATION:Fiera Milano\, Rho\, Foro Buonaparte 65\, Milano\, Lombardia\, 20121\, Italy
ATTACH;FMTTYPE=image/jpeg:https://fivosz.hu/wp-content/uploads/2026/03/Gyere-velunk-Milanoba-Salone-del-Mobile-2026.jpg
END:VEVENT
END:VCALENDAR